BEGIN:VCALENDAR
VERSION:2.0
PRODID:-//wp-events-plugin.com//7.2.3.1//EN
TZID:Europe/Berlin
X-WR-TIMEZONE:Europe/Berlin
BEGIN:VEVENT
UID:94@thomasmann-bonnkoeln.de
DTSTART;TZID=Europe/Berlin:20260528T190000
DTEND;TZID=Europe/Berlin:20260528T210000
DTSTAMP:20260421T191634Z
URL:https://thomasmann-bonnkoeln.de/termine/gleitende-abhaenge-thomas-mann
 s-buddenbrooks-und-der-aufbruch-in-die-moderne/
SUMMARY:Gleitende Abhänge - Thomas Manns Buddenbrooks und der Aufbruch in 
 die Moderne
DESCRIPTION:Am 28.Mai wird uns Dr. Britta Goerke ihr Buch Gleitende Abhäng
 e – Thomas Manns Buddenbrooks und der Aufbruch in die Moderne im Haus an
  der Redoute in Bad Godesberg vorstellen\, wie üblich um 19.00 Uhr.
ATTACH;FMTTYPE=image/jpeg:https://thomasmann-bonnkoeln.de/wp-content/uploa
 ds/2026/03/gleitende_abhaenge.jpg
CATEGORIES:Veranstaltung
END:VEVENT
BEGIN:VTIMEZONE
TZID:Europe/Berlin
X-LIC-LOCATION:Europe/Berlin
BEGIN:DAYLIGHT
DTSTART:20260329T030000
TZOFFSETFROM:+0100
TZOFFSETTO:+0200
TZNAME:CEST
END:DAYLIGHT
END:VTIMEZONE
END:VCALENDAR